BEGIN:VCALENDAR
VERSION:2.0
PRODID:-//Morgan Log House - ECPv6.15.20//NONSGML v1.0//EN
CALSCALE:GREGORIAN
METHOD:PUBLISH
X-WR-CALNAME:Morgan Log House
X-ORIGINAL-URL:http://www.morganloghouse.org
X-WR-CALDESC:Events for Morgan Log House
REFRESH-INTERVAL;VALUE=DURATION:PT1H
X-Robots-Tag:noindex
X-PUBLISHED-TTL:PT1H
BEGIN:VTIMEZONE
TZID:America/New_York
BEGIN:DAYLIGHT
TZOFFSETFROM:-0500
TZOFFSETTO:-0400
TZNAME:EDT
DTSTART:20230312T070000
END:DAYLIGHT
BEGIN:STANDARD
TZOFFSETFROM:-0400
TZOFFSETTO:-0500
TZNAME:EST
DTSTART:20231105T060000
END:STANDARD
BEGIN:DAYLIGHT
TZOFFSETFROM:-0500
TZOFFSETTO:-0400
TZNAME:EDT
DTSTART:20240310T070000
END:DAYLIGHT
BEGIN:STANDARD
TZOFFSETFROM:-0400
TZOFFSETTO:-0500
TZNAME:EST
DTSTART:20241103T060000
END:STANDARD
BEGIN:DAYLIGHT
TZOFFSETFROM:-0500
TZOFFSETTO:-0400
TZNAME:EDT
DTSTART:20250309T070000
END:DAYLIGHT
BEGIN:STANDARD
TZOFFSETFROM:-0400
TZOFFSETTO:-0500
TZNAME:EST
DTSTART:20251102T060000
END:STANDARD
END:VTIMEZONE
BEGIN:VEVENT
DTSTART;TZID=America/New_York:20241019T183000
DTEND;TZID=America/New_York:20241019T210000
DTSTAMP:20260425T114143
CREATED:20240328T164223Z
LAST-MODIFIED:20240927T191532Z
UID:93745-1729362600-1729371600@www.morganloghouse.org
SUMMARY:Mayhem at Morgan
DESCRIPTION:Join us on October 19th for Mayhem at Morgan\, where we will embark on a quest to find the lost gold treasure of the Louisa. \nDo you have what it takes to solve the puzzle? \nEach tour will last about 35 minutes. This event is rain or shine! \n\n\n\nPurchase Your Ticket Today!
URL:http://www.morganloghouse.org/event/mayhem-at-morgan-3/
LOCATION:Morgan Log House\, 850 Weikel Road\, Lansdale\, PA\, 19446\, United States
CATEGORIES:Program
ATTACH;FMTTYPE=image/png:http://www.morganloghouse.org/wp-content/uploads/2022/04/121700730_3814406808594124_6323308720195224794_n.png
END:VEVENT
END:VCALENDAR