BEGIN:VCALENDAR
VERSION:2.0
PRODID:-//Morgan Log House - ECPv6.15.20//NONSGML v1.0//EN
CALSCALE:GREGORIAN
METHOD:PUBLISH
X-ORIGINAL-URL:http://www.morganloghouse.org
X-WR-CALDESC:Events for Morgan Log House
REFRESH-INTERVAL;VALUE=DURATION:PT1H
X-Robots-Tag:noindex
X-PUBLISHED-TTL:PT1H
BEGIN:VTIMEZONE
TZID:America/New_York
BEGIN:DAYLIGHT
TZOFFSETFROM:-0500
TZOFFSETTO:-0400
TZNAME:EDT
DTSTART:20240310T070000
END:DAYLIGHT
BEGIN:STANDARD
TZOFFSETFROM:-0400
TZOFFSETTO:-0500
TZNAME:EST
DTSTART:20241103T060000
END:STANDARD
BEGIN:DAYLIGHT
TZOFFSETFROM:-0500
TZOFFSETTO:-0400
TZNAME:EDT
DTSTART:20250309T070000
END:DAYLIGHT
BEGIN:STANDARD
TZOFFSETFROM:-0400
TZOFFSETTO:-0500
TZNAME:EST
DTSTART:20251102T060000
END:STANDARD
BEGIN:DAYLIGHT
TZOFFSETFROM:-0500
TZOFFSETTO:-0400
TZNAME:EDT
DTSTART:20260308T070000
END:DAYLIGHT
BEGIN:STANDARD
TZOFFSETFROM:-0400
TZOFFSETTO:-0500
TZNAME:EST
DTSTART:20261101T060000
END:STANDARD
END:VTIMEZONE
BEGIN:VEVENT
DTSTART;TZID=America/New_York:20250524T110000
DTEND;TZID=America/New_York:20250524T160000
DTSTAMP:20260423T061852
CREATED:20250217T201527Z
LAST-MODIFIED:20250523T022300Z
UID:94666-1748084400-1748102400@www.morganloghouse.org
SUMMARY:Military Might
DESCRIPTION:Military Might\n📅 *Saturday\, May 24\, 2025*\n📍 *Morgan Log House\, Lansdale\, PA*\n🕘 *11:00 AM – 4:00 PM*   \nJoin us at Morgan Log House for Military Might\, a special event honoring the stories\, service\, and sacrifices of those who served throughout American history. This family-friendly day brings together living historians\, military reenactors\, and storytellers to explore the impact of war from the battlefield to the home front. \nStep back in time with interactive displays and demonstrations from a variety of historical eras\, including the Revolutionary War\, Civil War\, World Wars\, and beyond. Learn about uniforms\, equipment\, and daily life of soldiers through the centuries. \n📝 Featured Program: “Letters to Home”\nExperience the emotional side of conflict with our moving “Letters to Home” presentation. Listen to living historians read real letters sent between soldiers and their loved ones\, offering a powerful glimpse into the personal toll of war. \nEnjoy hands-on activities for all ages\, explore our historic house and grounds\, and connect with the history that shaped our nation. \n🎟 Admission: Free (donations appreciated)
URL:http://www.morganloghouse.org/event/military-might-3/
LOCATION:Morgan Log House\, 850 Weikel Road\, Lansdale\, PA\, 19446\, United States
CATEGORIES:Program
ATTACH;FMTTYPE=image/png:http://www.morganloghouse.org/wp-content/uploads/2025/02/7-e1739823281366.png
END:VEVENT
END:VCALENDAR