BEGIN:VCALENDAR
VERSION:2.0
PRODID:-//Morgan Log House - ECPv6.15.20//NONSGML v1.0//EN
CALSCALE:GREGORIAN
METHOD:PUBLISH
X-WR-CALNAME:Morgan Log House
X-ORIGINAL-URL:http://www.morganloghouse.org
X-WR-CALDESC:Events for Morgan Log House
REFRESH-INTERVAL;VALUE=DURATION:PT1H
X-Robots-Tag:noindex
X-PUBLISHED-TTL:PT1H
BEGIN:VTIMEZONE
TZID:America/New_York
BEGIN:DAYLIGHT
TZOFFSETFROM:-0500
TZOFFSETTO:-0400
TZNAME:EDT
DTSTART:20240310T070000
END:DAYLIGHT
BEGIN:STANDARD
TZOFFSETFROM:-0400
TZOFFSETTO:-0500
TZNAME:EST
DTSTART:20241103T060000
END:STANDARD
BEGIN:DAYLIGHT
TZOFFSETFROM:-0500
TZOFFSETTO:-0400
TZNAME:EDT
DTSTART:20250309T070000
END:DAYLIGHT
BEGIN:STANDARD
TZOFFSETFROM:-0400
TZOFFSETTO:-0500
TZNAME:EST
DTSTART:20251102T060000
END:STANDARD
BEGIN:DAYLIGHT
TZOFFSETFROM:-0500
TZOFFSETTO:-0400
TZNAME:EDT
DTSTART:20260308T070000
END:DAYLIGHT
BEGIN:STANDARD
TZOFFSETFROM:-0400
TZOFFSETTO:-0500
TZNAME:EST
DTSTART:20261101T060000
END:STANDARD
END:VTIMEZONE
BEGIN:VEVENT
DTSTART;TZID=America/New_York:20250607T130000
DTEND;TZID=America/New_York:20250607T153000
DTSTAMP:20260420T212439
CREATED:20250217T201705Z
LAST-MODIFIED:20250516T170824Z
UID:94669-1749301200-1749310200@www.morganloghouse.org
SUMMARY:Underground History: A Metal Detecting Workshop
DESCRIPTION:Did you know Morgan Log House has hosted three archaeological digs on its property? Ever wondered what’s beneath your feet? \nJoin us for a hands-on\, interactive Metal Detecting Workshop on June 7th from 1–3 PM! \nMeet treasure hunter David Poland\, who’s been metal detecting for over 30 years. Discover the amazing artifacts he’s uncovered and hear the stories behind them. Audience members may even get a chance to hunt for hidden treasures right on the historic grounds of Morgan Log House! \n🧭 Recommended for ages 8 and up\, including teens and adults.\n💰 Just $5 per person! \nCome ready to dig into history—you never know what you might find! \nClick here to register: https://myphillytickets.com/e/dig-into-the-past-a-hands-on-metal-detecting-works
URL:http://www.morganloghouse.org/event/morgan-log-house-workshop-metal-detecting/
LOCATION:Morgan Log House\, 850 Weikel Road\, Lansdale\, PA\, 19446\, United States
CATEGORIES:Program
ATTACH;FMTTYPE=image/png:http://www.morganloghouse.org/wp-content/uploads/2025/02/Untitled-design9.png
END:VEVENT
END:VCALENDAR